Workbook

Sheet Index
A7: CUMNOR PARISH COUNCIL
A8: ACCOUNTS
A9: FOR THE YEAR ENDED 31 MARCH 2025
C14: Index
B15: Page 2 | C15: Income and Expenditure Account
B16: Page 3 | C16: Balance Sheet
B17: Pages 4 - 7 | C17: Notes to the Accounts
B18: Page 8 | C18: Sumary of Income & Expenditure
B19: Pages 9 - 11 | C19: Sumary of Income & Expenditure - Supporting Working Papers

Sheet Inc + Exp
A1: CUMNOR PARISH COUNCIL
A2: INCOME & EXPENDITURE FOR THE YEAR ENDING 31 MARCH 2025
E4: 2025 | I4: 2024
A5: INCOME | C5: Notes | E5: £ | G5: £ | I5: £ | K5: £
B6: Precept | G6: 99000 | K6: 99000
B7: Grants | C7: 11 | G7: =Notes!C199 -> 0 | K7: =Notes!G199 -> 0
B8: Burial ground income | G8: 1906 | K8: 1081
B9: Other sales income | G9: 0 | K9: 0
B10: Bank deposit interest | G10: 8230.11 | K10: 7628.79
B11: Environment income | G11: 2143.7 | K11: 2143.7
B12: Insurance claims | G12: 0 | K12: 0
B13: VAT reclaim | G13: 0 | K13: 0
G14: =SUM(G6:G13) -> 111279.81 | K14: =SUM(K6:K13) -> 109853.49
A16: EXPENSES
B17: General administration | E17: ='Supp WPs'!C26 -> 14944.66 | I17: 14405.84
B18: Staff costs | E18: ='Supp WPs'!C34 -> 49544.21 | I18: 47304.06
B19: Subscriptions | E19: ='Supp WPs'!C39 -> 1688.95 | I19: 1720.78
B20: Recreation | E20: ='Supp WPs'!C86 -> 34075.58 | I20: 23049.32
B21: Burial ground | E21: ='Supp WPs'!C94 -> 2210.03 | I21: 2639
B22: Grants Specific powers | C22: 11 | E22: 1000 | I22: 1511.48
B23: Highways | E23: ='Supp WPs'!C108 -> 6280.4 | I23: 4433.59
B24: Grants S137 | C24: 7 | E24: 1100 | I24: 2910
B25: New equipment | E25: ='Supp WPs'!C114 -> 265
B26: Environment | E26: ='Supp WPs'!C122 -> 2443.7 | I26: 2322.33
G27: =SUM(E17:E26) -> 113552.53 | K27: =SUM(I17:I26) -> 100296.4
A29: NET SURPLUS for the year | G29: =+SUM(G14-G27) -> -2272.72 | K29: =+SUM(K14-K27) -> 9557.09
A31: SUMMARY OF MOVEMENT IN UNRESTRICTED RESERVES
B32: Balance at 01.04.2024 | G32: =K47 -> 85332.09 | K32: 86775
B33: Surplus for the year | G33: =G29 -> -2272.72 | K33: =K29 -> 9557.09
G34: =SUM(G32:G33) -> 83059.37 | K34: =SUM(K32:K33) -> 96332.09
B36: Transfers to dedicated reserves (from General fund)
B37: Major projects | E37: 0 | I37: 3000
B38: Defibrillator | E38: 0 | I38: 1000
B39: Closes pavilion | E39: 0 | I39: 1000
B40: Recreation future | E40: 0 | I40: 1000
B41: Fogwell Road Pavilion | E41: 0 | I41: 1000
B42: Office equipment upgrade | E42: 1000 | I42: 0
B43: Neighbourhood plan | E43: 1000 | I43: 4000
B44: CIL | E44: 0 | I44: 0
B45: General fund | C45: (add)/less | E45: 0 | I45: 0
...

Sheet Bal Sh
A1: CUMNOR PARISH COUNCIL
A2: BALANCE SHEET AS AT 31 MARCH 2025
E4: 2025 | H4: 2024
C5: Note | E5: £ | F5: £ | H5: £ | I5: £
A6: CURRENT ASSETS
B7: Debtors | C7: 4 | E7: =Notes!C88 -> 17269.5 | H7: 14484
B8: Cash at bank and in hand | C8: 6 | E8: =73876.75+82075.56+87963.51+89.97+22668.72 -> 266674.51 | H8: 267830
E9: =SUM(E7:E8) -> 283944.01 | H9: =SUM(H7:H8) -> 282314
A11: CURRENT LIABILITIES
B12: Trade creditors | C12: 5 | E12: =Notes!C107 -> 24058.51 | H12: 8405
A14: NET CURRENT ASSETS | F14: =SUM(E9-E12) -> 259885.5 | I14: =SUM(H9-H12) -> 273909
A16: TOTAL ASSETS LESS CURRENT LIABILITIES | F16: =SUM(F14:F15) -> 259885.5 | I16: =SUM(I14:I15) -> 273909
A18: REPRESTENTED BY:
B19: General Fund | F19: ='Inc + Exp'!G47 -> 81059.37 | I19: ='Inc + Exp'!K47 -> 85332.09
B20: Earmarked Reserves | C20: 10 | F20: =Notes!C145 -> 178826.45 | I20: 188578
F21: =SUM(F19:F20) -> 259885.82 | I21: 273909
F22: =F21-F16 -> 0.32 | I22: =I21-I16 -> 0
A31: The above statement fairly represents the financial position of the authority as at
A32: 31 March 2025 and reflects its income and expenditure during the year.
A35: Chairman….………………………………………………………………………
A37: Responsible Financial Officer…………………………………………………..

Sheet Notes
A1: CUMNOR PARISH COUNCIL
A2: NOTES TO THE ACCOUNTS FOR THE YEAR ENDED 31 MARCH 2025
A4: 1 | B4: ASSETS
A5: Assets are defined as land, buildings, vehicles, plant and equipment with a significant
A6: value in relation to the Parish's financial activities.
A7: The Council holds the freehold land at Cumnor Parish Burial Ground.
A8: The Council holds the freehold land at Closes Field, Cumnor in trust for recreation use.
A9: The Council holds the freehold land at The Glebe, Cumnor as a children's playground.
A10: The freehold land at Meadow Close, Farmoor was donated to the Council under a
A11: convenant restricting its use to recreation.
A12: The Council holds the freehold land at Pinnocks Way, Dean Court as a recreation field
A13: and children's playground.
A15: Asset value brought forward 1 April 2024 | C15: 735109.13
A16: Additions
A17: Portable Alliance Tester kit | C17: 265
A18: Oxford Road, Farmoor, manmade noticeboard | C18: 1010.77
A19: Changing room hoist | C19: 2139
A20: Bench at Meadow Close play park | C20: 553
A21: Pinnocks Way, manmade noticeboard | C21: 1010.77
A22: TOTAL | C22: =SUM(C17:C21) -> 4978.54
A24: Disposals made during the year:
A25: Oxford Road, Farmoor, wooden noticeboard | C25: 942.26
A26: Changing room hoist | C26: 2970
A27: Pinnocks Way, wooden noticeboard | C27: 942.26
A29: TOTAL | C29: =SUM(C25:C28) -> 4854.52
A31: Asset value carried forward 31 March 2025 | C31: =SUM(C15+C22-C29) -> 735233.15
A33: At 31 March 2025 the following assets were held:
C34: Value £
A36: The Closes Sports Pavilion | C36: 92000
A37: Fogwell Road Sports Pavilion | C37: 220000
A38: Fogwell Road Sports Pavilion - contents | C38: 3864.69
A39: Key safe - Fogwell Road Pavilion | C39: 76.15
A40: 2 x defibrillators | C40: 2
A41: 3 x silent soldiers silhouettes | C41: 1
A42: 17 bus shelters, 2 with solar panels + perch seat | C42: 66566.33
A43: 18 seats | C43: 7613.65
A44: 23 Noticeboards | C44: 20941.41
A45: 3 grit bins | C45: 480
A46: Signpost - Denmans Lane | C46: 284.95
A47: Road signs at 2,4,6,8 The Glebe | C47: 337.52
...

Sheet Summ In + Exp
A1: CUMOR PARISH COUNCIL
A2: SUMMARY OF INCOME AND EXPENDITURE FOR YEAR ENDED 31 MARCH 2025
A4: INCOME
A6: 2022/23 | C6: 2023/24 | F6: 2024/2025
A8: 98000 | C8: 99000 | E8: Precept | F8: ='Inc + Exp'!G6 -> 99000
A9: 2760.16 | C9: 7628.79 | E9: Interest on accounts | F9: ='Inc + Exp'!G10 -> 8230.11
A10: 590 | C10: 1081 | E10: Burial Ground fees | F10: ='Inc + Exp'!G8 -> 1906
A11: 0 | C11: 0 | E11: Grants received (see note 11) | F11: ='Inc + Exp'!G7 -> 0
A12: 0 | C12: 0 | E12: Insurance claims | F12: ='Inc + Exp'!G12 -> 0
A13: 78 | C13: 0 | E13: Other income | F13: ='Inc + Exp'!G9 -> 0
A14: 2143.7 | C14: 2143.7 | E14: Environment income | F14: ='Inc + Exp'!G11 -> 2143.7
A15: 0 | C15: 0 | E15: VAT refunds | F15: 0
A16: =SUM(A8:A15) -> 103571.86 | C16: =SUM(C8:C15) -> 109853.49 | E16: Total income | F16: =SUM(F8:F15) -> 111279.81
A19: EXPENDITURE
A21: 58313.04 | C21: 61709.9 | E21: General admin (inc staff costs) | F21: ='Inc + Exp'!E17+'Inc + Exp'!E18 -> 64488.87
A22: 20879.53 | C22: 23049.32 | E22: Recreation | F22: ='Inc + Exp'!E20 -> 34075.58
A23: 2062 | C23: 2639 | E23: Burial | F23: ='Inc + Exp'!E21 -> 2210.03
A24: 1480.74 | C24: 1511.47 | E24: Grants (see note 11) | F24: ='Inc + Exp'!E22 -> 1000
A25: 1727.63 | C25: 1720.78 | E25: Subscriptions | F25: ='Inc + Exp'!E19 -> 1688.95
A26: 8250 | C26: 2910 | E26: S137 ( see note 7) | F26: ='Inc + Exp'!E24 -> 1100
A27: 5414.46 | C27: 4433.59 | E27: Highways | F27: ='Inc + Exp'!E23 -> 6280.4
A28: 0 | C28: 0 | E28: New equipment | F28: 265
A29: 2143.7 | C29: 2322.33 | E29: Environment | F29: 2443.7
A30: =SUM(A21:A29) -> 100271.1 | C30: =SUM(C21:C29) -> 100296.39 | E30: Total expenditure | F30: =SUM(F21:F29) -> 113552.53
C32: Parish Council balance brought forward
A33: 292927.93 | C33: 287884.66 | E33: As at April 2024 | F33: =C42 -> 273909.12
A34: 0.07 | C34: 0.44 | E34: Rounding difference | F34: 0.5
A35: 103571.86 | C35: 109853.49 | E35: Add total income | F35: =F16 -> 111279.81
A36: =SUM(A33:A35) -> 396499.86 | C36: =SUM(C33:C35) -> 397738.59 | F36: =SUM(F33:F35) -> 385189.43
A38: -100271.1 | C38: -100296.4 | E38: Less total expenditure | F38: =-F30 -> -113552.53
E39: Payments/(grants rec'd) to/(from)
A40: -8344.1 | C40: -23533.07 | E40: Dedicated Reserves | F40: =F59 -> -11751.08
E41: Balance carried forward as at
A42: =SUM(A36:A41) -> 287884.66 | C42: =SUM(C36:C41) -> 273909.12 | E42: 45747 | F42: =SUM(F36:F41) -> 259885.82 | G42: =F42-'Bal Sh'!F21 -> 0
A44: *Figures carried forward includes rounding differences.
A46: NOTE:
A47: Payments (grants received) to/(from) Dedicated reserves (not from general fund)
A48: 0 | C48: 0 | E48: Burial | F48: -15000
A49: 0 | C49: 0 | E49: Closes pavilion | F49: -478.8
A50: -940.75 | C50: 0 | E50: Defibrillator | F50: 0
...

Sheet Supp WPs
A1: CUMNOR PARISH COUNCIL
A2: SUMMARY INCOME AND EXPENDITURE ACCOUNT FOR THE YEAR ENDED 31 MARCH 2025
A3: SUPPORTING WORKING PAPERS
A5: a) Breakdown of General Adminstration expenses | C5: 2025 | E5: 2024
C6: £ | E6: £
A7: Other staff related costs | C7: =118+265.5 -> 383.5 | E7: 383.5
A8: Room hire | C8: 159 | E8: 10
A9: Light and heat | C9: 112.81 | E9: 162.23
A10: Stationery | C10: 94.56 | E10: 12.27
A11: Printing and Photocopying | C11: 114.15 | E11: 0
A12: Postage | C12: 412.29 | E12: 45.45
A13: Telephone | C13: 1802.89 | E13: 1098.55
A14: Car mileage | C14: 864.46 | E14: 669.8
A15: Other payments (Clerk's training) | C15: 372.86 | E15: =778.7+50 -> 828.7
A16: Software purchases | C16: 509.76 | E16: 561.36
A17: Other IT costs | C17: 0 | E17: 311.67
A18: Other Councillor's expenses | C18: 0 | E18: 353.37
A19: Insurance cover | C19: 5044.85 | E19: 4283.44
A20: Bank charges | C20: 82.05 | E20: 72
A21: Professional and Consulting fees - SAGE advice | C21: 1226.48 | E21: 1215.5
A22: Professional and Consulting fees - other | C22: 0 | E22: 0
A23: Recreational consultants fees | C23: 2690 | E23: 2503
A24: Election fees | C24: 0 | E24: 800
A25: Audit fees | C25: 1075 | E25: 1095
A26: TOTAL | C26: =SUM(C7:C25) -> 14944.66 | E26: =SUM(E7:E25) -> 14405.84
A28: b) Breakdown of Staff Costs | C28: 2025 | E28: 2024
C29: £ | E29: £
A30: Clerk's salary | C30: 28565.59 | E30: 26647.04
A31: Clerk's TAX | C31: 4494.8 | E31: 4185.6
A32: Clerk's NI | C32: 5911.51 | E32: 6365.31
A33: Pension contributions | C33: 10572.31 | E33: 10106.11
C34: =SUM(C30:C33) -> 49544.21 | E34: =SUM(E30:E33) -> 47304.06
A37: c) Breakdown of Subcriptions | C37: 2025 | E37: 2024
C38: £ | E38: £
A39: Association subscriptions | C39: 1688.95 | E39: 1720.78
A42: d) Breakdown of Recreation expenses | C42: 2025 | E42: 2024
C43: £ | E43: £
A44: Fogwell Pavlion - consumables | C44: 89.68 | E44: 0
A45: Fogwell Pavilion - cleaner | C45: 960 | E45: 760
A46: Fogwell Pavillion - land rent | C46: 25 | E46: 25
...
